BEGIN:VCALENDAR
VERSION:2.0
PRODID:-//Explore Killarney - ECPv4.6.20.1//NONSGML v1.0//EN
CALSCALE:GREGORIAN
METHOD:PUBLISH
X-WR-CALNAME:Explore Killarney
X-ORIGINAL-URL:https://killarney.org.au
X-WR-CALDESC:Events for Explore Killarney
BEGIN:VEVENT
DTSTART;TZID=Australia/Brisbane:20190330T080000
DTEND;TZID=Australia/Brisbane:20190331T170000
DTSTAMP:20190227T042015
CREATED:20180923T200917Z
LAST-MODIFIED:20180926T032938Z
UID:3551-1553932800-1554051600@killarney.org.au
SUMMARY:Killarney Border Ranges Trail Bike Ride
DESCRIPTION:The Killarney and Border Districts Trail Ride is a premier event on the trail ride calendar. The trail ride is hosted by the Killarney P-10 State School Parents and Citizens Association but rallies the support and hospitality of the whole town to provide an unforgettable and challenging experience for riders who dare. \nThe trail winds its way through the scenic\, high country from Killarney to the New South Wales/Queensland border and back. And when you thought all the fun was over\, country hospitality and good old-fashioned fun takes over with a good feed and night entertainment of catching up on the day’s trials and tribulations. \nFor the less adventuresome\, there is a Peewee Track and a Novice Track. \n2019 RIDE DATES – 30TH AND 31ST MARCH \n
URL:https://killarney.org.au/event/border-ranges-trail-bike-ride/
LOCATION:Killarney Recreation Club\, Killarney\, Queensland\, 4373
ATTACH;FMTTYPE=image/jpeg:https://killarney.org.au/wp-content/uploads/2018/09/border-range-trail-ride.jpg
END:VEVENT
BEGIN:VEVENT
DTSTART;TZID=Australia/Brisbane:20190407T100000
DTEND;TZID=Australia/Brisbane:20190407T160000
DTSTAMP:20190227T042015
CREATED:20180923T204029Z
LAST-MODIFIED:20180923T204029Z
UID:3543-1554631200-1554652800@killarney.org.au
SUMMARY:Killarney Picnic Basket Day
DESCRIPTION:Laughing friends and family picnicking on the green lawn; cool jazz music floating on the breeze; the still\, cool lake reflecting the warm colours of autumn and the blue mountain ranges. \nPicnic Basket Day is a fun\, family day for locals and visitors to experience the natural beauty of Killarney and the surrounding region while enjoying wonderful local produce. \nAnd what lovelier spot for the event than the beautiful gardens of Melrose Station\, renowned across the region? \nVisitors are invited to bring their picnic blanket and chairs and set up a spot in the grounds.  A variety of food stalls will offer BBQ\, baked potatoes\, Devonshire morning tea\, cupcakes\, fruit salad and ice cream. \nRaffles and local featured musicians add to the relaxed event. \nProceeds from the day will go to Livin’\, a not-for-profit organisation using apparel\, events and motivational programs to get people talking about mental health and suicide prevention. \nKillarney’s Picnic Basket Day will be held on Sunday 7 April 2019\, from 10am to 4pm at Melrose Station.   For more information contact 0437 109 912. \n
URL:https://killarney.org.au/event/killarney-picnic-basket-day/
LOCATION:Melrose Station Killarney Barlows Gate Rd\, Killarney\, Queensland\, 4373
ATTACH;FMTTYPE=image/jpeg:https://killarney.org.au/wp-content/uploads/2018/09/basket-2.jpg
END:VEVENT
BEGIN:VEVENT
DTSTART;TZID=Australia/Brisbane:20190518T060000
DTEND;TZID=Australia/Brisbane:20190519T170000
DTSTAMP:20190227T042015
CREATED:20180923T213234Z
LAST-MODIFIED:20180926T031644Z
UID:3883-1558159200-1558285200@killarney.org.au
SUMMARY:Killarney Campdraft
DESCRIPTION:Killarney Campdraft is held in May each year \n
URL:https://killarney.org.au/event/killarney-campdraft/
LOCATION:51 Willow St\, Killarney\, Queensland\, 4373
ATTACH;FMTTYPE=image/jpeg:https://killarney.org.au/wp-content/uploads/2018/09/camp-draft.jpg
END:VEVENT
BEGIN:VEVENT
DTSTART;TZID=Australia/Brisbane:20190720T160000
DTEND;TZID=Australia/Brisbane:20190720T213000
DTSTAMP:20190227T042015
CREATED:20180923T042403Z
LAST-MODIFIED:20180923T042513Z
UID:3547-1563638400-1563658200@killarney.org.au
SUMMARY:Bonfire Night
DESCRIPTION:Date to be confirmed.\n \nCheck the attached video . . . then decide to join us at next years event. Mark it in your diary now! \n
URL:https://killarney.org.au/event/bonfire-night/
LOCATION:51 Willow St\, Killarney\, Queensland\, 4373
ATTACH;FMTTYPE=image/jpeg:https://killarney.org.au/wp-content/uploads/2018/08/bonfire-2.jpg
END:VEVENT
BEGIN:VEVENT
DTSTART;TZID=Australia/Brisbane:20190810T080000
DTEND;TZID=Australia/Brisbane:20190811T170000
DTSTAMP:20190227T042015
CREATED:20180923T213849Z
LAST-MODIFIED:20180923T213849Z
UID:3553-1565424000-1565542800@killarney.org.au
SUMMARY:Killarney Rodeo
DESCRIPTION:Killarney has always been passionate about Rodeo with the purpose built arena being one of the earliest in the state to offer Night Rodeo under lights. Our rodeo is held in August. \nThe 2019 Rodeo will be held on Saturday 10 August. \n
URL:https://killarney.org.au/event/killarney-rodeo/
LOCATION:51 Willow St\, Killarney\, Queensland\, 4373
ATTACH;FMTTYPE=image/jpeg:https://killarney.org.au/wp-content/uploads/2018/09/rodeo.jpg
END:VEVENT
BEGIN:VEVENT
DTSTART;TZID=Australia/Brisbane:20190825T080000
DTEND;TZID=Australia/Brisbane:20190825T140000
DTSTAMP:20190227T042015
CREATED:20180815T011853Z
LAST-MODIFIED:20180926T031922Z
UID:3470-1566720000-1566741600@killarney.org.au
SUMMARY:Waddle\, Saddle and Pedal
DESCRIPTION: \nThe Waddle\, Saddle & Pedal (formerly Waddle & Saddle) is held in Killarney’s Cambanoora Gorge on the last weekend in August. \nIt is a mixed trek for Walkers\, Horse Riders and Cyclists along the historic Condamine River Road in the beautiful Condamine Gorge near Killarney. \nThe road is part of the Bicentennial National Trail. \nOn the day of the Waddle and Saddle the road is closed to traffic and participants follow in the tracks of the bullock teams and pioneers through the soaring cliffs and 14 River Crossings of the Gorge\, enjoying a Billy Tea and Damper along the way before returning home to a Sausage Sizzle and Soup Lunch. The entire trip is 24km. \nThe event is a fund-raiser for the Killarney Show & Rodeo Society and run with the support of the Killarney Lions Club and the Cambanoora Gorge Management Group. \nThe date for the 2019 Waddle and Saddle will be Sunday 25 August\, 2019. \nTrek Info: Waddle and Saddle Ride Info 2019 \nTrek Map: Waddle and Saddle Ride  \nLocal Area Ride Map: Local Area Ride Map \nIf you are bringing horses\, you will also need to complete a Horse Health Declaration which includes each horse you bring to the event: Horse Health Declaration Form \n
URL:https://killarney.org.au/event/waddle-and-saddle-and-pedal/
LOCATION:Queensland
ATTACH;FMTTYPE=image/jpeg:https://killarney.org.au/wp-content/uploads/2018/08/waddle-saddle-pedal-e1536014554917.jpg
END:VEVENT
END:VCALENDAR